BEGIN:VCALENDAR
VERSION:2.0
PRODID:-//Goldgrube//myauktion.com//AT
CALSCALE:GREGORIAN
BEGIN:VEVENT
DTSTART:20260506T122100
DTEND:20260506T122130
LOCATION:Gewerbepark 13, 8562 Mooskirchen
DTSTAMP:20260423T002503
SUMMARY:MyAuktion: Ablauf Artikel Nr. 957872 Kilimanjaro Isomatte ca 170cm 
URL;VALUE=URI:https://www.myauktion.com/versteigerung7656-position2442622-kilimanjaro-isomatte-ca-170cm.php
DESCRIPTION:Gebraucht Verschmutzt 
UID:myauktion-7656-2442622
BEGIN:VALARM
ACTION:DISPLAY
DESCRIPTION:Gebraucht Verschmutzt 
TRIGGER:-PT10M
END:VALARM
END:VEVENT
END:VCALENDAR