BEGIN:VCALENDAR
VERSION:2.0
PRODID:-//Goldgrube//myauktion.com//AT
CALSCALE:GREGORIAN
BEGIN:VEVENT
DTSTART:20260506T121000
DTEND:20260506T121030
LOCATION:Gewerbepark 13, 8562 Mooskirchen
DTSTAMP:20260423T002502
SUMMARY:MyAuktion: Ablauf Artikel Nr. 957615 Bene Klarsichthülle 100stk A4 105544
URL;VALUE=URI:https://www.myauktion.com/versteigerung7656-position2442626-bene-klarsichthuelle-100stk-a4-105544.php
DESCRIPTION:
UID:myauktion-7656-2442626
BEGIN:VALARM
ACTION:DISPLAY
DESCRIPTION:
TRIGGER:-PT10M
END:VALARM
END:VEVENT
END:VCALENDAR