BEGIN:VCALENDAR
VERSION:2.0
PRODID:-//Goldgrube//myauktion.com//AT
CALSCALE:GREGORIAN
BEGIN:VEVENT
DTSTART:20260506T121300
DTEND:20260506T121330
LOCATION:Gewerbepark 13, 8562 Mooskirchen
DTSTAMP:20260422T224010
SUMMARY:MyAuktion: Ablauf Artikel Nr. 957616 Officio Klarsichthüllen A4 PP 140my glatt 100stk 
URL;VALUE=URI:https://www.myauktion.com/versteigerung7656-position2442627-officio-klarsichthuellen-a4-pp-140my-glatt-100stk.php
DESCRIPTION:
UID:myauktion-7656-2442627
BEGIN:VALARM
ACTION:DISPLAY
DESCRIPTION:
TRIGGER:-PT10M
END:VALARM
END:VEVENT
END:VCALENDAR