BEGIN:VCALENDAR
VERSION:2.0
PRODID:-//Goldgrube//myauktion.com//AT
CALSCALE:GREGORIAN
BEGIN:VEVENT
DTSTART:20260506T122300
DTEND:20260506T122330
LOCATION:Gewerbepark 13, 8562 Mooskirchen
DTSTAMP:20260423T002503
SUMMARY:MyAuktion: Ablauf Artikel Nr. 957874 Diverser Wollschal ca 170x60cm 
URL;VALUE=URI:https://www.myauktion.com/versteigerung7656-position2442628-diverser-wollschal-ca-170x60cm.php
DESCRIPTION:Gebraucht 
UID:myauktion-7656-2442628
BEGIN:VALARM
ACTION:DISPLAY
DESCRIPTION:Gebraucht 
TRIGGER:-PT10M
END:VALARM
END:VEVENT
END:VCALENDAR