BEGIN:VCALENDAR
VERSION:2.0
PRODID:-//Goldgrube//myauktion.com//AT
CALSCALE:GREGORIAN
BEGIN:VEVENT
DTSTART:20260506T122400
DTEND:20260506T122430
LOCATION:Gewerbepark 13, 8562 Mooskirchen
DTSTAMP:20260423T002503
SUMMARY:MyAuktion: Ablauf Artikel Nr. 957875 Saha bag blau braun  ca 50x35cm
URL;VALUE=URI:https://www.myauktion.com/versteigerung7656-position2442630-saha-bag-blau-braun-ca-50x35cm.php
DESCRIPTION:<div>Gebraucht verschmutzt</div>
UID:myauktion-7656-2442630
BEGIN:VALARM
ACTION:DISPLAY
DESCRIPTION:<div>Gebraucht verschmutzt</div>
TRIGGER:-PT10M
END:VALARM
END:VEVENT
END:VCALENDAR