BEGIN:VCALENDAR
VERSION:2.0
PRODID:-//Goldgrube//myauktion.com//AT
CALSCALE:GREGORIAN
BEGIN:VEVENT
DTSTART:20260506T105600
DTEND:20260506T105630
LOCATION:Gewerbepark 13, 8562 Mooskirchen
DTSTAMP:20260424T122007
SUMMARY:MyAuktion: Ablauf Artikel Nr. 957147 Brembo Bremsbelagsatz 
URL;VALUE=URI:https://www.myauktion.com/versteigerung7656-position2442631-brembo-bremsbelagsatz.php
DESCRIPTION:No. P50157
UID:myauktion-7656-2442631
BEGIN:VALARM
ACTION:DISPLAY
DESCRIPTION:No. P50157
TRIGGER:-PT10M
END:VALARM
END:VEVENT
END:VCALENDAR