BEGIN:VCALENDAR
VERSION:2.0
PRODID:-//Goldgrube//myauktion.com//AT
CALSCALE:GREGORIAN
BEGIN:VEVENT
DTSTART:20260506T122500
DTEND:20260506T122530
LOCATION:Gewerbepark 13, 8562 Mooskirchen
DTSTAMP:20260423T002503
SUMMARY:MyAuktion: Ablauf Artikel Nr. 957876 Leder Umhängetasche  ca 38x32cm
URL;VALUE=URI:https://www.myauktion.com/versteigerung7656-position2442632-leder-umhaengetasche-ca-38x32cm.php
DESCRIPTION:Gebraucht verschmutzt 
UID:myauktion-7656-2442632
BEGIN:VALARM
ACTION:DISPLAY
DESCRIPTION:Gebraucht verschmutzt 
TRIGGER:-PT10M
END:VALARM
END:VEVENT
END:VCALENDAR