BEGIN:VCALENDAR
VERSION:2.0
PRODID:-//Goldgrube//myauktion.com//AT
CALSCALE:GREGORIAN
BEGIN:VEVENT
DTSTART:20260506T105700
DTEND:20260506T105730
LOCATION:Gewerbepark 13, 8562 Mooskirchen
DTSTAMP:20260424T122956
SUMMARY:MyAuktion: Ablauf Artikel Nr. 957148 Zara Home Tellerset 8-Teilig 
URL;VALUE=URI:https://www.myauktion.com/versteigerung7656-position2442633-zara-home-tellerset-8-teilig.php
DESCRIPTION:Ca 27,5cm durchmesser
UID:myauktion-7656-2442633
BEGIN:VALARM
ACTION:DISPLAY
DESCRIPTION:Ca 27,5cm durchmesser
TRIGGER:-PT10M
END:VALARM
END:VEVENT
END:VCALENDAR