BEGIN:VCALENDAR
VERSION:2.0
PRODID:-//Goldgrube//myauktion.com//AT
CALSCALE:GREGORIAN
BEGIN:VEVENT
DTSTART:20260506T105800
DTEND:20260506T105830
LOCATION:Gewerbepark 13, 8562 Mooskirchen
DTSTAMP:20260424T122008
SUMMARY:MyAuktion: Ablauf Artikel Nr. 957149 Zara Home Suppenteller 4-Teilig 
URL;VALUE=URI:https://www.myauktion.com/versteigerung7656-position2442634-zara-home-suppenteller-4-teilig.php
DESCRIPTION:Durchmesser ca 23,5cm
UID:myauktion-7656-2442634
BEGIN:VALARM
ACTION:DISPLAY
DESCRIPTION:Durchmesser ca 23,5cm
TRIGGER:-PT10M
END:VALARM
END:VEVENT
END:VCALENDAR