BEGIN:VCALENDAR
VERSION:2.0
PRODID:-//Goldgrube//myauktion.com//AT
CALSCALE:GREGORIAN
BEGIN:VEVENT
DTSTART:20260506T105900
DTEND:20260506T105930
LOCATION:Gewerbepark 13, 8562 Mooskirchen
DTSTAMP:20260424T122004
SUMMARY:MyAuktion: Ablauf Artikel Nr. 957150 Zara Home Tellerset 8-Teilig 
URL;VALUE=URI:https://www.myauktion.com/versteigerung7656-position2442635-zara-home-tellerset-8-teilig.php
DESCRIPTION:Durchmesser ca 22cm
UID:myauktion-7656-2442635
BEGIN:VALARM
ACTION:DISPLAY
DESCRIPTION:Durchmesser ca 22cm
TRIGGER:-PT10M
END:VALARM
END:VEVENT
END:VCALENDAR