BEGIN:VCALENDAR
VERSION:2.0
PRODID:-//Goldgrube//myauktion.com//AT
CALSCALE:GREGORIAN
BEGIN:VEVENT
DTSTART:20260506T090700
DTEND:20260506T090730
LOCATION:Gewerbepark 13, 8562 Mooskirchen
DTSTAMP:20260422T161437
SUMMARY:MyAuktion: Ablauf Artikel Nr. 956946 Salzkammergut Papier Tragetaschen ca. 37x26cm 
URL;VALUE=URI:https://www.myauktion.com/versteigerung7656-position2442638-salzkammergut-papier-tragetaschen-ca-37x26cm.php
DESCRIPTION:
UID:myauktion-7656-2442638
BEGIN:VALARM
ACTION:DISPLAY
DESCRIPTION:
TRIGGER:-PT10M
END:VALARM
END:VEVENT
END:VCALENDAR