BEGIN:VCALENDAR
VERSION:2.0
PRODID:-//Goldgrube//myauktion.com//AT
CALSCALE:GREGORIAN
BEGIN:VEVENT
DTSTART:20260506T090800
DTEND:20260506T090830
LOCATION:Gewerbepark 13, 8562 Mooskirchen
DTSTAMP:20260422T224011
SUMMARY:MyAuktion: Ablauf Artikel Nr. 956947 Einhell Führungsschiene 45.021.18 
URL;VALUE=URI:https://www.myauktion.com/versteigerung7656-position2442639-einhell-fuehrungsschiene-4502118.php
DESCRIPTION:Verpackung beschädigt 
UID:myauktion-7656-2442639
BEGIN:VALARM
ACTION:DISPLAY
DESCRIPTION:Verpackung beschädigt 
TRIGGER:-PT10M
END:VALARM
END:VEVENT
END:VCALENDAR