BEGIN:VCALENDAR
VERSION:2.0
PRODID:-//Goldgrube//myauktion.com//AT
CALSCALE:GREGORIAN
BEGIN:VEVENT
DTSTART:20260506T110100
DTEND:20260506T110130
LOCATION:Gewerbepark 13, 8562 Mooskirchen
DTSTAMP:20260424T122011
SUMMARY:MyAuktion: Ablauf Artikel Nr. 957152 Fruit Dryer
URL;VALUE=URI:https://www.myauktion.com/versteigerung7656-position2442641-fruit-dryer.php
DESCRIPTION:Model No. HM-801, ca 25,5×22,5cm
UID:myauktion-7656-2442641
BEGIN:VALARM
ACTION:DISPLAY
DESCRIPTION:Model No. HM-801, ca 25,5×22,5cm
TRIGGER:-PT10M
END:VALARM
END:VEVENT
END:VCALENDAR