BEGIN:VCALENDAR
VERSION:2.0
PRODID:-//Goldgrube//myauktion.com//AT
CALSCALE:GREGORIAN
BEGIN:VEVENT
DTSTART:20260506T122800
DTEND:20260506T122830
LOCATION:Gewerbepark 13, 8562 Mooskirchen
DTSTAMP:20260422T224011
SUMMARY:MyAuktion: Ablauf Artikel Nr. 957879 Home 24 Hängelampe S-IGN-052015-0020 Schwarz innen Gold  
URL;VALUE=URI:https://www.myauktion.com/versteigerung7656-position2442643-home-24-haengelampe-s-ign-052015-0020-schwarz-innen-gold.php
DESCRIPTION:
UID:myauktion-7656-2442643
BEGIN:VALARM
ACTION:DISPLAY
DESCRIPTION:
TRIGGER:-PT10M
END:VALARM
END:VEVENT
END:VCALENDAR