BEGIN:VCALENDAR
VERSION:2.0
PRODID:-//Goldgrube//myauktion.com//AT
CALSCALE:GREGORIAN
BEGIN:VEVENT
DTSTART:20260506T091000
DTEND:20260506T091030
LOCATION:Gewerbepark 13, 8562 Mooskirchen
DTSTAMP:20260422T224014
SUMMARY:MyAuktion: Ablauf Artikel Nr. 956949 Gaderobenpaneel ca. 150x12cm 
URL;VALUE=URI:https://www.myauktion.com/versteigerung7656-position2442644-gaderobenpaneel-ca-150x12cm.php
DESCRIPTION:Haken fehlen 
UID:myauktion-7656-2442644
BEGIN:VALARM
ACTION:DISPLAY
DESCRIPTION:Haken fehlen 
TRIGGER:-PT10M
END:VALARM
END:VEVENT
END:VCALENDAR