BEGIN:VCALENDAR
VERSION:2.0
PRODID:-//Goldgrube//myauktion.com//AT
CALSCALE:GREGORIAN
BEGIN:VEVENT
DTSTART:20260506T110200
DTEND:20260506T110230
LOCATION:Gewerbepark 13, 8562 Mooskirchen
DTSTAMP:20260424T122011
SUMMARY:MyAuktion: Ablauf Artikel Nr. 957153 Grundplatte aus Stahl ca 49×49cm
URL;VALUE=URI:https://www.myauktion.com/versteigerung7656-position2442645-grundplatte-aus-stahl-ca-4949cm.php
DESCRIPTION:Verschmutzt und Rostig 
UID:myauktion-7656-2442645
BEGIN:VALARM
ACTION:DISPLAY
DESCRIPTION:Verschmutzt und Rostig 
TRIGGER:-PT10M
END:VALARM
END:VEVENT
END:VCALENDAR