BEGIN:VCALENDAR
VERSION:2.0
PRODID:-//Goldgrube//myauktion.com//AT
CALSCALE:GREGORIAN
BEGIN:VEVENT
DTSTART:20260506T091100
DTEND:20260506T091130
LOCATION:Gewerbepark 13, 8562 Mooskirchen
DTSTAMP:20260422T224012
SUMMARY:MyAuktion: Ablauf Artikel Nr. 956950 Windhager Insektengitter Breite ca. 160cm 
URL;VALUE=URI:https://www.myauktion.com/versteigerung7656-position2442646-windhager-insektengitter-breite-ca-160cm.php
DESCRIPTION:Keine weiteren Daten ersichtlich
UID:myauktion-7656-2442646
BEGIN:VALARM
ACTION:DISPLAY
DESCRIPTION:Keine weiteren Daten ersichtlich
TRIGGER:-PT10M
END:VALARM
END:VEVENT
END:VCALENDAR