BEGIN:VCALENDAR
VERSION:2.0
PRODID:-//Goldgrube//myauktion.com//AT
CALSCALE:GREGORIAN
BEGIN:VEVENT
DTSTART:20260506T110300
DTEND:20260506T110330
LOCATION:Gewerbepark 13, 8562 Mooskirchen
DTSTAMP:20260424T122008
SUMMARY:MyAuktion: Ablauf Artikel Nr. 957154 Grainfather All-in-One Brauanlage 
URL;VALUE=URI:https://www.myauktion.com/versteigerung7656-position2442649-grainfather-all-in-one-brauanlage.php
DESCRIPTION:<div>Beschädigt, Ca 66cm hoch, ca 44,5cm Durchmesser</div>
UID:myauktion-7656-2442649
BEGIN:VALARM
ACTION:DISPLAY
DESCRIPTION:<div>Beschädigt, Ca 66cm hoch, ca 44,5cm Durchmesser</div>
TRIGGER:-PT10M
END:VALARM
END:VEVENT
END:VCALENDAR