BEGIN:VCALENDAR
VERSION:2.0
PRODID:-//Goldgrube//myauktion.com//AT
CALSCALE:GREGORIAN
BEGIN:VEVENT
DTSTART:20260506T091300
DTEND:20260506T091330
LOCATION:Gewerbepark 13, 8562 Mooskirchen
DTSTAMP:20260422T161436
SUMMARY:MyAuktion: Ablauf Artikel Nr. 956952 Urko Profu-Montagestütze 100kg 250-290cm 180kg 160-250cm 
URL;VALUE=URI:https://www.myauktion.com/versteigerung7656-position2442651-urko-profu-montagestuetze-100kg-250-290cm-180kg-160-250cm.php
DESCRIPTION:Mod. 43129 
UID:myauktion-7656-2442651
BEGIN:VALARM
ACTION:DISPLAY
DESCRIPTION:Mod. 43129 
TRIGGER:-PT10M
END:VALARM
END:VEVENT
END:VCALENDAR