BEGIN:VCALENDAR
VERSION:2.0
PRODID:-//Goldgrube//myauktion.com//AT
CALSCALE:GREGORIAN
BEGIN:VEVENT
DTSTART:20260506T091400
DTEND:20260506T091430
LOCATION:Gewerbepark 13, 8562 Mooskirchen
DTSTAMP:20260422T224013
SUMMARY:MyAuktion: Ablauf Artikel Nr. 956953 Kopfkissen ca. 60x30cm 2er Set 
URL;VALUE=URI:https://www.myauktion.com/versteigerung7656-position2442652-kopfkissen-ca-60x30cm-2er-set.php
DESCRIPTION:
UID:myauktion-7656-2442652
BEGIN:VALARM
ACTION:DISPLAY
DESCRIPTION:
TRIGGER:-PT10M
END:VALARM
END:VEVENT
END:VCALENDAR