BEGIN:VCALENDAR
VERSION:2.0
PRODID:-//Goldgrube//myauktion.com//AT
CALSCALE:GREGORIAN
BEGIN:VEVENT
DTSTART:20260506T110500
DTEND:20260506T110530
LOCATION:Gewerbepark 13, 8562 Mooskirchen
DTSTAMP:20260424T122009
SUMMARY:MyAuktion: Ablauf Artikel Nr. 957156 GEFA Spezialschnalle, 4t
URL;VALUE=URI:https://www.myauktion.com/versteigerung7656-position2442653-gefa-spezialschnalle-4t.php
DESCRIPTION:Ca 7,5×6,5cm
UID:myauktion-7656-2442653
BEGIN:VALARM
ACTION:DISPLAY
DESCRIPTION:Ca 7,5×6,5cm
TRIGGER:-PT10M
END:VALARM
END:VEVENT
END:VCALENDAR