BEGIN:VCALENDAR
VERSION:2.0
PRODID:-//Goldgrube//myauktion.com//AT
CALSCALE:GREGORIAN
BEGIN:VEVENT
DTSTART:20260506T123000
DTEND:20260506T123030
LOCATION:Gewerbepark 13, 8562 Mooskirchen
DTSTAMP:20260423T002502
SUMMARY:MyAuktion: Ablauf Artikel Nr. 957881 Roboterstaubsauger XM32 Interlligent Remote Control 
URL;VALUE=URI:https://www.myauktion.com/versteigerung7656-position2442655-roboterstaubsauger-xm32-interlligent-remote-control.php
DESCRIPTION:
UID:myauktion-7656-2442655
BEGIN:VALARM
ACTION:DISPLAY
DESCRIPTION:
TRIGGER:-PT10M
END:VALARM
END:VEVENT
END:VCALENDAR