BEGIN:VCALENDAR
VERSION:2.0
PRODID:-//Goldgrube//myauktion.com//AT
CALSCALE:GREGORIAN
BEGIN:VEVENT
DTSTART:20260506T123200
DTEND:20260506T123230
LOCATION:Gewerbepark 13, 8562 Mooskirchen
DTSTAMP:20260422T180119
SUMMARY:MyAuktion: Ablauf Artikel Nr. 957883 Überquerbare Dart-Themen-Tasche Schwarz ca 20x18cm 
URL;VALUE=URI:https://www.myauktion.com/versteigerung7656-position2442660-berquerbare-dart-themen-tasche-schwarz-ca-20x18cm.php
DESCRIPTION:
UID:myauktion-7656-2442660
BEGIN:VALARM
ACTION:DISPLAY
DESCRIPTION:
TRIGGER:-PT10M
END:VALARM
END:VEVENT
END:VCALENDAR