BEGIN:VCALENDAR
VERSION:2.0
PRODID:-//Goldgrube//myauktion.com//AT
CALSCALE:GREGORIAN
BEGIN:VEVENT
DTSTART:20260506T092400
DTEND:20260506T092430
LOCATION:Gewerbepark 13, 8562 Mooskirchen
DTSTAMP:20260422T224010
SUMMARY:MyAuktion: Ablauf Artikel Nr. 956959 Diverse Schneider Kugelschreiber 
URL;VALUE=URI:https://www.myauktion.com/versteigerung7656-position2442662-diverse-schneider-kugelschreiber.php
DESCRIPTION:
UID:myauktion-7656-2442662
BEGIN:VALARM
ACTION:DISPLAY
DESCRIPTION:
TRIGGER:-PT10M
END:VALARM
END:VEVENT
END:VCALENDAR