BEGIN:VCALENDAR
VERSION:2.0
PRODID:-//Goldgrube//myauktion.com//AT
CALSCALE:GREGORIAN
BEGIN:VEVENT
DTSTART:20260506T092700
DTEND:20260506T092730
LOCATION:Gewerbepark 13, 8562 Mooskirchen
DTSTAMP:20260422T161437
SUMMARY:MyAuktion: Ablauf Artikel Nr. 956962 Pentel EnerGel Gel Roller Pen blue je 12Stk 
URL;VALUE=URI:https://www.myauktion.com/versteigerung7656-position2442667-pentel-energel-gel-roller-pen-blue-je-12stk.php
DESCRIPTION:
UID:myauktion-7656-2442667
BEGIN:VALARM
ACTION:DISPLAY
DESCRIPTION:
TRIGGER:-PT10M
END:VALARM
END:VEVENT
END:VCALENDAR