BEGIN:VCALENDAR
VERSION:2.0
PRODID:-//Goldgrube//myauktion.com//AT
CALSCALE:GREGORIAN
BEGIN:VEVENT
DTSTART:20260506T092900
DTEND:20260506T092930
LOCATION:Gewerbepark 13, 8562 Mooskirchen
DTSTAMP:20260424T104925
SUMMARY:MyAuktion: Ablauf Artikel Nr. 956964 Siemens Sirius Leistungsschalter 3RV2021-4DA10 
URL;VALUE=URI:https://www.myauktion.com/versteigerung7656-position2442670-siemens-sirius-leistungsschalter-3rv2021-4da10.php
DESCRIPTION:
UID:myauktion-7656-2442670
BEGIN:VALARM
ACTION:DISPLAY
DESCRIPTION:
TRIGGER:-PT10M
END:VALARM
END:VEVENT
END:VCALENDAR