BEGIN:VCALENDAR
VERSION:2.0
PRODID:-//Goldgrube//myauktion.com//AT
CALSCALE:GREGORIAN
BEGIN:VEVENT
DTSTART:20260506T093100
DTEND:20260506T093130
LOCATION:Gewerbepark 13, 8562 Mooskirchen
DTSTAMP:20260424T150157
SUMMARY:MyAuktion: Ablauf Artikel Nr. 956966 Nino Percussion Trommel ø19cm Höhe ca. 40cm 
URL;VALUE=URI:https://www.myauktion.com/versteigerung7656-position2442673-nino-percussion-trommel-19cm-hoehe-ca-40cm.php
DESCRIPTION:Gebraucht 
UID:myauktion-7656-2442673
BEGIN:VALARM
ACTION:DISPLAY
DESCRIPTION:Gebraucht 
TRIGGER:-PT10M
END:VALARM
END:VEVENT
END:VCALENDAR