BEGIN:VCALENDAR
VERSION:2.0
PRODID:-//Goldgrube//myauktion.com//AT
CALSCALE:GREGORIAN
BEGIN:VEVENT
DTSTART:20260506T111000
DTEND:20260506T111030
LOCATION:Gewerbepark 13, 8562 Mooskirchen
DTSTAMP:20260424T122009
SUMMARY:MyAuktion: Ablauf Artikel Nr. 957159 Gewürz-Streuer- Set mit diversen Einsätzen
URL;VALUE=URI:https://www.myauktion.com/versteigerung7656-position2442674-gewuerz-streuer-set-mit-diversen-einsaetzen.php
DESCRIPTION:Ca 9cm groß, 12 Gläser
UID:myauktion-7656-2442674
BEGIN:VALARM
ACTION:DISPLAY
DESCRIPTION:Ca 9cm groß, 12 Gläser
TRIGGER:-PT10M
END:VALARM
END:VEVENT
END:VCALENDAR