BEGIN:VCALENDAR
VERSION:2.0
PRODID:-//Goldgrube//myauktion.com//AT
CALSCALE:GREGORIAN
BEGIN:VEVENT
DTSTART:20260506T123500
DTEND:20260506T123530
LOCATION:Gewerbepark 13, 8562 Mooskirchen
DTSTAMP:20260422T224013
SUMMARY:MyAuktion: Ablauf Artikel Nr. 957886 Spanish Mafia Diverse Gummy Straps für Wakeboard 
URL;VALUE=URI:https://www.myauktion.com/versteigerung7656-position2442677-spanish-mafia-diverse-gummy-straps-fuer-wakeboard.php
DESCRIPTION:Verschmutzt 
UID:myauktion-7656-2442677
BEGIN:VALARM
ACTION:DISPLAY
DESCRIPTION:Verschmutzt 
TRIGGER:-PT10M
END:VALARM
END:VEVENT
END:VCALENDAR