BEGIN:VCALENDAR
VERSION:2.0
PRODID:-//Goldgrube//myauktion.com//AT
CALSCALE:GREGORIAN
BEGIN:VEVENT
DTSTART:20260506T093500
DTEND:20260506T093530
LOCATION:Gewerbepark 13, 8562 Mooskirchen
DTSTAMP:20260422T224011
SUMMARY:MyAuktion: Ablauf Artikel Nr. 956969 Sodapop/Spdastream CO2 Cylinder 9Stk 
URL;VALUE=URI:https://www.myauktion.com/versteigerung7656-position2442678-sodapop-spdastream-co2-cylinder-9stk.php
DESCRIPTION:Leere Flaschen!!
UID:myauktion-7656-2442678
BEGIN:VALARM
ACTION:DISPLAY
DESCRIPTION:Leere Flaschen!!
TRIGGER:-PT10M
END:VALARM
END:VEVENT
END:VCALENDAR