BEGIN:VCALENDAR
VERSION:2.0
PRODID:-//Goldgrube//myauktion.com//AT
CALSCALE:GREGORIAN
BEGIN:VEVENT
DTSTART:20260506T093600
DTEND:20260506T093630
LOCATION:Gewerbepark 13, 8562 Mooskirchen
DTSTAMP:20260424T104926
SUMMARY:MyAuktion: Ablauf Artikel Nr. 956970 Salomon Brigade Mips black 
URL;VALUE=URI:https://www.myauktion.com/versteigerung7656-position2442679-salomon-brigade-mips-black.php
DESCRIPTION:Gr. S (53-56)
UID:myauktion-7656-2442679
BEGIN:VALARM
ACTION:DISPLAY
DESCRIPTION:Gr. S (53-56)
TRIGGER:-PT10M
END:VALARM
END:VEVENT
END:VCALENDAR