BEGIN:VCALENDAR
VERSION:2.0
PRODID:-//Goldgrube//myauktion.com//AT
CALSCALE:GREGORIAN
BEGIN:VEVENT
DTSTART:20260506T123600
DTEND:20260506T123630
LOCATION:Gewerbepark 13, 8562 Mooskirchen
DTSTAMP:20260422T224013
SUMMARY:MyAuktion: Ablauf Artikel Nr. 957887 Rea Lazienka z Wyobraźnia Armatur Lungo Gold 
URL;VALUE=URI:https://www.myauktion.com/versteigerung7656-position2442680-rea-lazienka-z-wyobrania-armatur-lungo-gold.php
DESCRIPTION:
UID:myauktion-7656-2442680
BEGIN:VALARM
ACTION:DISPLAY
DESCRIPTION:
TRIGGER:-PT10M
END:VALARM
END:VEVENT
END:VCALENDAR