BEGIN:VCALENDAR
VERSION:2.0
PRODID:-//Goldgrube//myauktion.com//AT
CALSCALE:GREGORIAN
BEGIN:VEVENT
DTSTART:20260506T111100
DTEND:20260506T111130
LOCATION:Gewerbepark 13, 8562 Mooskirchen
DTSTAMP:20260424T122004
SUMMARY:MyAuktion: Ablauf Artikel Nr. 957160 Turmventilator ca 55cm hoch
URL;VALUE=URI:https://www.myauktion.com/versteigerung7656-position2442681-turmventilator-ca-55cm-hoch.php
DESCRIPTION:
UID:myauktion-7656-2442681
BEGIN:VALARM
ACTION:DISPLAY
DESCRIPTION:
TRIGGER:-PT10M
END:VALARM
END:VEVENT
END:VCALENDAR