BEGIN:VCALENDAR
VERSION:2.0
PRODID:-//Goldgrube//myauktion.com//AT
CALSCALE:GREGORIAN
BEGIN:VEVENT
DTSTART:20260506T093700
DTEND:20260506T093730
LOCATION:Gewerbepark 13, 8562 Mooskirchen
DTSTAMP:20260422T224012
SUMMARY:MyAuktion: Ablauf Artikel Nr. 956971 Schild weiß ca. 60x40cm 
URL;VALUE=URI:https://www.myauktion.com/versteigerung7656-position2442682-schild-weiss-ca-60x40cm.php
DESCRIPTION:Zerkratzt 
UID:myauktion-7656-2442682
BEGIN:VALARM
ACTION:DISPLAY
DESCRIPTION:Zerkratzt 
TRIGGER:-PT10M
END:VALARM
END:VEVENT
END:VCALENDAR