BEGIN:VCALENDAR
VERSION:2.0
PRODID:-//Goldgrube//myauktion.com//AT
CALSCALE:GREGORIAN
BEGIN:VEVENT
DTSTART:20260506T123700
DTEND:20260506T123730
LOCATION:Gewerbepark 13, 8562 Mooskirchen
DTSTAMP:20260422T224012
SUMMARY:MyAuktion: Ablauf Artikel Nr. 957888 alfalux Deckenlampe WE50X7BU 3x60W 50x7cm 
URL;VALUE=URI:https://www.myauktion.com/versteigerung7656-position2442684-alfalux-deckenlampe-we50x7bu-3x60w-50x7cm.php
DESCRIPTION:
UID:myauktion-7656-2442684
BEGIN:VALARM
ACTION:DISPLAY
DESCRIPTION:
TRIGGER:-PT10M
END:VALARM
END:VEVENT
END:VCALENDAR