BEGIN:VCALENDAR
VERSION:2.0
PRODID:-//Goldgrube//myauktion.com//AT
CALSCALE:GREGORIAN
BEGIN:VEVENT
DTSTART:20260506T093900
DTEND:20260506T093930
LOCATION:Gewerbepark 13, 8562 Mooskirchen
DTSTAMP:20260422T180119
SUMMARY:MyAuktion: Ablauf Artikel Nr. 956973 Einhell Aschefilter 12L 23.516.06 
URL;VALUE=URI:https://www.myauktion.com/versteigerung7656-position2442685-einhell-aschefilter-12l-2351606.php
DESCRIPTION:
UID:myauktion-7656-2442685
BEGIN:VALARM
ACTION:DISPLAY
DESCRIPTION:
TRIGGER:-PT10M
END:VALARM
END:VEVENT
END:VCALENDAR