BEGIN:VCALENDAR
VERSION:2.0
PRODID:-//Goldgrube//myauktion.com//AT
CALSCALE:GREGORIAN
BEGIN:VEVENT
DTSTART:20260506T094100
DTEND:20260506T094130
LOCATION:Gewerbepark 13, 8562 Mooskirchen
DTSTAMP:20260424T104925
SUMMARY:MyAuktion: Ablauf Artikel Nr. 956975 Kapten&Son Bali medium all black 
URL;VALUE=URI:https://www.myauktion.com/versteigerung7656-position2442688-kapten-38son-bali-medium-all-black.php
DESCRIPTION:
UID:myauktion-7656-2442688
BEGIN:VALARM
ACTION:DISPLAY
DESCRIPTION:
TRIGGER:-PT10M
END:VALARM
END:VEVENT
END:VCALENDAR