BEGIN:VCALENDAR
VERSION:2.0
PRODID:-//Goldgrube//myauktion.com//AT
CALSCALE:GREGORIAN
BEGIN:VEVENT
DTSTART:20260506T094200
DTEND:20260506T094230
LOCATION:Gewerbepark 13, 8562 Mooskirchen
DTSTAMP:20260422T224015
SUMMARY:MyAuktion: Ablauf Artikel Nr. 956976 Künstlicher Adventskranz 
URL;VALUE=URI:https://www.myauktion.com/versteigerung7656-position2442689-kuenstlicher-adventskranz.php
DESCRIPTION:
UID:myauktion-7656-2442689
BEGIN:VALARM
ACTION:DISPLAY
DESCRIPTION:
TRIGGER:-PT10M
END:VALARM
END:VEVENT
END:VCALENDAR