BEGIN:VCALENDAR
VERSION:2.0
PRODID:-//Goldgrube//myauktion.com//AT
CALSCALE:GREGORIAN
BEGIN:VEVENT
DTSTART:20260506T123800
DTEND:20260506T123830
LOCATION:Gewerbepark 13, 8562 Mooskirchen
DTSTAMP:20260423T002502
SUMMARY:MyAuktion: Ablauf Artikel Nr. 957889 Nespresso Maison Water Bottle 500ml 
URL;VALUE=URI:https://www.myauktion.com/versteigerung7656-position2442690-nespresso-maison-water-bottle-500ml.php
DESCRIPTION:
UID:myauktion-7656-2442690
BEGIN:VALARM
ACTION:DISPLAY
DESCRIPTION:
TRIGGER:-PT10M
END:VALARM
END:VEVENT
END:VCALENDAR