BEGIN:VCALENDAR
VERSION:2.0
PRODID:-//Goldgrube//myauktion.com//AT
CALSCALE:GREGORIAN
BEGIN:VEVENT
DTSTART:20260506T094300
DTEND:20260506T094330
LOCATION:Gewerbepark 13, 8562 Mooskirchen
DTSTAMP:20260424T114803
SUMMARY:MyAuktion: Ablauf Artikel Nr. 956977 Songmics Stoffbox ohne Deckel faltbar 10Stk 
URL;VALUE=URI:https://www.myauktion.com/versteigerung7656-position2442691-songmics-stoffbox-ohne-deckel-faltbar-10stk.php
DESCRIPTION:
UID:myauktion-7656-2442691
BEGIN:VALARM
ACTION:DISPLAY
DESCRIPTION:
TRIGGER:-PT10M
END:VALARM
END:VEVENT
END:VCALENDAR