BEGIN:VCALENDAR
VERSION:2.0
PRODID:-//Goldgrube//myauktion.com//AT
CALSCALE:GREGORIAN
BEGIN:VEVENT
DTSTART:20260506T123900
DTEND:20260506T123930
LOCATION:Gewerbepark 13, 8562 Mooskirchen
DTSTAMP:20260423T002502
SUMMARY:MyAuktion: Ablauf Artikel Nr. 957890 Nespresso Loop Collection Loop Gran Lungo 2Stk 
URL;VALUE=URI:https://www.myauktion.com/versteigerung7656-position2442692-nespresso-loop-collection-loop-gran-lungo-2stk.php
DESCRIPTION:
UID:myauktion-7656-2442692
BEGIN:VALARM
ACTION:DISPLAY
DESCRIPTION:
TRIGGER:-PT10M
END:VALARM
END:VEVENT
END:VCALENDAR