BEGIN:VCALENDAR
VERSION:2.0
PRODID:-//Goldgrube//myauktion.com//AT
CALSCALE:GREGORIAN
BEGIN:VEVENT
DTSTART:20260506T111300
DTEND:20260506T111330
LOCATION:Gewerbepark 13, 8562 Mooskirchen
DTSTAMP:20260424T122008
SUMMARY:MyAuktion: Ablauf Artikel Nr. 957162 Werkzeugkoffer 
URL;VALUE=URI:https://www.myauktion.com/versteigerung7656-position2442693-werkzeugkoffer.php
DESCRIPTION:Ca 32×19cm
UID:myauktion-7656-2442693
BEGIN:VALARM
ACTION:DISPLAY
DESCRIPTION:Ca 32×19cm
TRIGGER:-PT10M
END:VALARM
END:VEVENT
END:VCALENDAR