BEGIN:VCALENDAR
VERSION:2.0
PRODID:-//Goldgrube//myauktion.com//AT
CALSCALE:GREGORIAN
BEGIN:VEVENT
DTSTART:20260506T094900
DTEND:20260506T094930
LOCATION:Gewerbepark 13, 8562 Mooskirchen
DTSTAMP:20260422T224011
SUMMARY:MyAuktion: Ablauf Artikel Nr. 956979 Storcube Smart Lithium Battery Pack STC01/1ED 
URL;VALUE=URI:https://www.myauktion.com/versteigerung7656-position2442696-storcube-smart-lithium-battery-pack-stc01-1ed.php
DESCRIPTION:Gebraucht, Funktion nicht getestet 
UID:myauktion-7656-2442696
BEGIN:VALARM
ACTION:DISPLAY
DESCRIPTION:Gebraucht, Funktion nicht getestet 
TRIGGER:-PT10M
END:VALARM
END:VEVENT
END:VCALENDAR