BEGIN:VCALENDAR
VERSION:2.0
PRODID:-//Goldgrube//myauktion.com//AT
CALSCALE:GREGORIAN
BEGIN:VEVENT
DTSTART:20260506T111400
DTEND:20260506T111430
LOCATION:Gewerbepark 13, 8562 Mooskirchen
DTSTAMP:20260424T122009
SUMMARY:MyAuktion: Ablauf Artikel Nr. 957163 Motorrad-Handprotektoren
URL;VALUE=URI:https://www.myauktion.com/versteigerung7656-position2442698-motorrad-handprotektoren.php
DESCRIPTION:Für Yamaha TDM 850/900 Modelle
UID:myauktion-7656-2442698
BEGIN:VALARM
ACTION:DISPLAY
DESCRIPTION:Für Yamaha TDM 850/900 Modelle
TRIGGER:-PT10M
END:VALARM
END:VEVENT
END:VCALENDAR