BEGIN:VCALENDAR
VERSION:2.0
PRODID:-//Goldgrube//myauktion.com//AT
CALSCALE:GREGORIAN
BEGIN:VEVENT
DTSTART:20260506T124300
DTEND:20260506T124330
LOCATION:Gewerbepark 13, 8562 Mooskirchen
DTSTAMP:20260423T002503
SUMMARY:MyAuktion: Ablauf Artikel Nr. 957894 B2000 pkus Lackschutz Versiegelung 1000ml
URL;VALUE=URI:https://www.myauktion.com/versteigerung7656-position2442704-b2000-pkus-lackschutz-versiegelung-1000ml.php
DESCRIPTION:
UID:myauktion-7656-2442704
BEGIN:VALARM
ACTION:DISPLAY
DESCRIPTION:
TRIGGER:-PT10M
END:VALARM
END:VEVENT
END:VCALENDAR