BEGIN:VCALENDAR
VERSION:2.0
PRODID:-//Goldgrube//myauktion.com//AT
CALSCALE:GREGORIAN
BEGIN:VEVENT
DTSTART:20260506T095400
DTEND:20260506T095430
LOCATION:Gewerbepark 13, 8562 Mooskirchen
DTSTAMP:20260422T224011
SUMMARY:MyAuktion: Ablauf Artikel Nr. 956983 Kupfer Bogen ø64 
URL;VALUE=URI:https://www.myauktion.com/versteigerung7656-position2442705-kupfer-bogen-64.php
DESCRIPTION:
UID:myauktion-7656-2442705
BEGIN:VALARM
ACTION:DISPLAY
DESCRIPTION:
TRIGGER:-PT10M
END:VALARM
END:VEVENT
END:VCALENDAR