BEGIN:VCALENDAR
VERSION:2.0
PRODID:-//Goldgrube//myauktion.com//AT
CALSCALE:GREGORIAN
BEGIN:VEVENT
DTSTART:20260506T124400
DTEND:20260506T124430
LOCATION:Gewerbepark 13, 8562 Mooskirchen
DTSTAMP:20260422T224013
SUMMARY:MyAuktion: Ablauf Artikel Nr. 957895 Gestell für LED Wandleuchten in Gold 
URL;VALUE=URI:https://www.myauktion.com/versteigerung7656-position2442708-gestell-fuer-led-wandleuchten-in-gold.php
DESCRIPTION:Keinen weiteren Infos ersichtlich 
UID:myauktion-7656-2442708
BEGIN:VALARM
ACTION:DISPLAY
DESCRIPTION:Keinen weiteren Infos ersichtlich 
TRIGGER:-PT10M
END:VALARM
END:VEVENT
END:VCALENDAR