BEGIN:VCALENDAR
VERSION:2.0
PRODID:-//Goldgrube//myauktion.com//AT
CALSCALE:GREGORIAN
BEGIN:VEVENT
DTSTART:20260506T111800
DTEND:20260506T111830
LOCATION:Gewerbepark 13, 8562 Mooskirchen
DTSTAMP:20260424T122006
SUMMARY:MyAuktion: Ablauf Artikel Nr. 957167 Flechtkorb
URL;VALUE=URI:https://www.myauktion.com/versteigerung7656-position2442710-flechtkorb.php
DESCRIPTION:Gebraucht, ca 26,5×17cm
UID:myauktion-7656-2442710
BEGIN:VALARM
ACTION:DISPLAY
DESCRIPTION:Gebraucht, ca 26,5×17cm
TRIGGER:-PT10M
END:VALARM
END:VEVENT
END:VCALENDAR