BEGIN:VCALENDAR
VERSION:2.0
PRODID:-//Goldgrube//myauktion.com//AT
CALSCALE:GREGORIAN
BEGIN:VEVENT
DTSTART:20260506T100200
DTEND:20260506T100230
LOCATION:Gewerbepark 13, 8562 Mooskirchen
DTSTAMP:20260424T122005
SUMMARY:MyAuktion: Ablauf Artikel Nr. 956986 Gawfolk Computer Monitor 24,5" GF245A Black 
URL;VALUE=URI:https://www.myauktion.com/versteigerung7656-position2442712-gawfolk-computer-monitor-245-34-gf245a-black.php
DESCRIPTION:
UID:myauktion-7656-2442712
BEGIN:VALARM
ACTION:DISPLAY
DESCRIPTION:
TRIGGER:-PT10M
END:VALARM
END:VEVENT
END:VCALENDAR