BEGIN:VCALENDAR
VERSION:2.0
PRODID:-//Goldgrube//myauktion.com//AT
CALSCALE:GREGORIAN
BEGIN:VEVENT
DTSTART:20260506T100600
DTEND:20260506T100630
LOCATION:Gewerbepark 13, 8562 Mooskirchen
DTSTAMP:20260424T122005
SUMMARY:MyAuktion: Ablauf Artikel Nr. 956990 Bontec TV Wall Bracket CT-135B 
URL;VALUE=URI:https://www.myauktion.com/versteigerung7656-position2442717-bontec-tv-wall-bracket-ct-135b.php
DESCRIPTION:
UID:myauktion-7656-2442717
BEGIN:VALARM
ACTION:DISPLAY
DESCRIPTION:
TRIGGER:-PT10M
END:VALARM
END:VEVENT
END:VCALENDAR